BEGIN:VCALENDAR
VERSION:2.0
PRODID:-//Mount of Olives Baptist Church - ECPv4.9.3.2//NONSGML v1.0//EN
CALSCALE:GREGORIAN
METHOD:PUBLISH
X-WR-CALNAME:Mount of Olives Baptist Church
X-ORIGINAL-URL:http://mountofolives.net
X-WR-CALDESC:Events for Mount of Olives Baptist Church
BEGIN:VEVENT
DTSTART;TZID=America/Chicago:20241017T090000
DTEND;TZID=America/Chicago:20241017T103000
DTSTAMP:20260421T202615
CREATED:20240813T154847Z
LAST-MODIFIED:20240813T154847Z
UID:7958-1729155600-1729161000@mountofolives.net
SUMMARY:Women's Prayer Group
DESCRIPTION:
URL:http://mountofolives.net/event/womens-prayer-group/2024-10-17/
END:VEVENT
BEGIN:VEVENT
DTSTART;TZID=America/Chicago:20241017T113000
DTEND;TZID=America/Chicago:20241017T130000
DTSTAMP:20260421T202615
CREATED:20240917T154032Z
LAST-MODIFIED:20240917T154032Z
UID:8232-1729164600-1729170000@mountofolives.net
SUMMARY:Energizers
DESCRIPTION:
URL:http://mountofolives.net/event/energizers-20/
END:VEVENT
END:VCALENDAR