BEGIN:VCALENDAR
VERSION:2.0
PRODID:-//Mount of Olives Baptist Church - ECPv4.9.3.2//NONSGML v1.0//EN
CALSCALE:GREGORIAN
METHOD:PUBLISH
X-WR-CALNAME:Mount of Olives Baptist Church
X-ORIGINAL-URL:http://mountofolives.net
X-WR-CALDESC:Events for Mount of Olives Baptist Church
BEGIN:VEVENT
DTSTART;TZID=America/Chicago:20241023T090000
DTEND;TZID=America/Chicago:20241023T103000
DTSTAMP:20260422T055301
CREATED:20240816T182849Z
LAST-MODIFIED:20240816T182849Z
UID:8098-1729674000-1729679400@mountofolives.net
SUMMARY:Women's Bible Study
DESCRIPTION:
URL:http://mountofolives.net/event/womens-bible-study/2024-10-23/
END:VEVENT
BEGIN:VEVENT
DTSTART;TZID=America/Chicago:20241023T180000
DTEND;TZID=America/Chicago:20241023T193000
DTSTAMP:20260422T055301
CREATED:20240815T195943Z
LAST-MODIFIED:20240815T195943Z
UID:7979-1729706400-1729711800@mountofolives.net
SUMMARY:Youth Group
DESCRIPTION:
URL:http://mountofolives.net/event/youth-group/2024-10-23/
END:VEVENT
BEGIN:VEVENT
DTSTART;TZID=America/Chicago:20241023T180000
DTEND;TZID=America/Chicago:20241023T193000
DTSTAMP:20260422T055301
CREATED:20240816T132845Z
LAST-MODIFIED:20240816T133032Z
UID:8020-1729706400-1729711800@mountofolives.net
SUMMARY:Prayer Meeting
DESCRIPTION:
URL:http://mountofolives.net/event/prayer-meeting-3/2024-10-23/
END:VEVENT
BEGIN:VEVENT
DTSTART;TZID=America/Chicago:20241023T180000
DTEND;TZID=America/Chicago:20241023T193000
DTSTAMP:20260422T055301
CREATED:20240816T183017Z
LAST-MODIFIED:20240816T183017Z
UID:8135-1729706400-1729711800@mountofolives.net
SUMMARY:Kingdom Kids
DESCRIPTION:
URL:http://mountofolives.net/event/kingdom-kids/2024-10-23/
END:VEVENT
END:VCALENDAR