BEGIN:VCALENDAR
VERSION:2.0
PRODID:-//Mount of Olives Baptist Church - ECPv4.9.3.2//NONSGML v1.0//EN
CALSCALE:GREGORIAN
METHOD:PUBLISH
X-WR-CALNAME:Mount of Olives Baptist Church
X-ORIGINAL-URL:http://mountofolives.net
X-WR-CALDESC:Events for Mount of Olives Baptist Church
BEGIN:VEVENT
DTSTART;VALUE=DATE:20241118
DTEND;VALUE=DATE:20241126
DTSTAMP:20260422T150826
CREATED:20241015T141906Z
LAST-MODIFIED:20241015T141906Z
UID:8278-1731888000-1732579199@mountofolives.net
SUMMARY:Operation Christmas Child Collection Week
DESCRIPTION:
URL:http://mountofolives.net/event/operation-christmas-child-collection-week-2/
END:VEVENT
BEGIN:VEVENT
DTSTART;TZID=America/Chicago:20241119T063000
DTEND;TZID=America/Chicago:20241119T080000
DTSTAMP:20260422T150826
CREATED:20210707T145230Z
LAST-MODIFIED:20250918T163656Z
UID:5722-1731997800-1732003200@mountofolives.net
SUMMARY:Men's Bible Study
DESCRIPTION:
URL:http://mountofolives.net/event/mens-bible-study-15/2024-11-19/
END:VEVENT
END:VCALENDAR