BEGIN:VCALENDAR
VERSION:2.0
PRODID:-//Mount of Olives Baptist Church - ECPv4.9.3.2//NONSGML v1.0//EN
CALSCALE:GREGORIAN
METHOD:PUBLISH
X-WR-CALNAME:Mount of Olives Baptist Church
X-ORIGINAL-URL:http://mountofolives.net
X-WR-CALDESC:Events for Mount of Olives Baptist Church
BEGIN:VEVENT
DTSTART;TZID=America/Chicago:20241224T063000
DTEND;TZID=America/Chicago:20241224T080000
DTSTAMP:20260422T133507
CREATED:20210707T145230Z
LAST-MODIFIED:20250918T163659Z
UID:5916-1735021800-1735027200@mountofolives.net
SUMMARY:Men's Bible Study
DESCRIPTION:
URL:http://mountofolives.net/event/mens-bible-study-15/2024-12-24/
END:VEVENT
BEGIN:VEVENT
DTSTART;TZID=America/Chicago:20241224T170000
DTEND;TZID=America/Chicago:20241224T183000
DTSTAMP:20260422T133507
CREATED:20241126T185811Z
LAST-MODIFIED:20241126T185811Z
UID:8404-1735059600-1735065000@mountofolives.net
SUMMARY:Christmas Eve Service
DESCRIPTION:
URL:http://mountofolives.net/event/christmas-eve-service-2/
END:VEVENT
END:VCALENDAR