BEGIN:VCALENDAR
VERSION:2.0
PRODID:-//Mount of Olives Baptist Church - ECPv4.9.3.2//NONSGML v1.0//EN
CALSCALE:GREGORIAN
METHOD:PUBLISH
X-WR-CALNAME:Mount of Olives Baptist Church
X-ORIGINAL-URL:http://mountofolives.net
X-WR-CALDESC:Events for Mount of Olives Baptist Church
BEGIN:VEVENT
DTSTART;TZID=America/Chicago:20250102T090000
DTEND;TZID=America/Chicago:20250102T103000
DTSTAMP:20260422T120441
CREATED:20241218T153657Z
LAST-MODIFIED:20250204T192836Z
UID:8482-1735808400-1735813800@mountofolives.net
SUMMARY:Women's Prayer
DESCRIPTION:
URL:http://mountofolives.net/event/womens-prayer-51/2025-01-02/
END:VEVENT
END:VCALENDAR