BEGIN:VCALENDAR
VERSION:2.0
PRODID:-//Mount of Olives Baptist Church - ECPv4.9.3.2//NONSGML v1.0//EN
CALSCALE:GREGORIAN
METHOD:PUBLISH
X-WR-CALNAME:Mount of Olives Baptist Church
X-ORIGINAL-URL:http://mountofolives.net
X-WR-CALDESC:Events for Mount of Olives Baptist Church
BEGIN:VEVENT
DTSTART;TZID=America/Chicago:20250108T090000
DTEND;TZID=America/Chicago:20250108T103000
DTSTAMP:20260422T120308
CREATED:20240816T182849Z
LAST-MODIFIED:20241119T160704Z
UID:8107-1736326800-1736332200@mountofolives.net
SUMMARY:Women's Bible Study
DESCRIPTION:
URL:http://mountofolives.net/event/womens-bible-study/2025-01-08/
END:VEVENT
BEGIN:VEVENT
DTSTART;TZID=America/Chicago:20250108T180000
DTEND;TZID=America/Chicago:20250108T193000
DTSTAMP:20260422T120308
CREATED:20240815T195943Z
LAST-MODIFIED:20241126T185921Z
UID:7986-1736359200-1736364600@mountofolives.net
SUMMARY:Youth Group
DESCRIPTION:
URL:http://mountofolives.net/event/youth-group/2025-01-08/
END:VEVENT
BEGIN:VEVENT
DTSTART;TZID=America/Chicago:20250108T180000
DTEND;TZID=America/Chicago:20250108T193000
DTSTAMP:20260422T120308
CREATED:20240816T132845Z
LAST-MODIFIED:20241120T222711Z
UID:8031-1736359200-1736364600@mountofolives.net
SUMMARY:Prayer Meeting
DESCRIPTION:
URL:http://mountofolives.net/event/prayer-meeting-3/2025-01-08/
END:VEVENT
BEGIN:VEVENT
DTSTART;TZID=America/Chicago:20250108T180000
DTEND;TZID=America/Chicago:20250108T193000
DTSTAMP:20260422T120308
CREATED:20240816T183017Z
LAST-MODIFIED:20241120T222612Z
UID:8144-1736359200-1736364600@mountofolives.net
SUMMARY:Kingdom Kids
DESCRIPTION:
URL:http://mountofolives.net/event/kingdom-kids/2025-01-08/
END:VEVENT
END:VCALENDAR