BEGIN:VCALENDAR
VERSION:2.0
PRODID:-//Mount of Olives Baptist Church - ECPv4.9.3.2//NONSGML v1.0//EN
CALSCALE:GREGORIAN
METHOD:PUBLISH
X-WR-CALNAME:Mount of Olives Baptist Church
X-ORIGINAL-URL:http://mountofolives.net
X-WR-CALDESC:Events for Mount of Olives Baptist Church
BEGIN:VEVENT
DTSTART;TZID=America/Chicago:20250226T090000
DTEND;TZID=America/Chicago:20250226T103000
DTSTAMP:20260422T091912
CREATED:20240816T182849Z
LAST-MODIFIED:20241119T160709Z
UID:8114-1740560400-1740565800@mountofolives.net
SUMMARY:Women's Bible Study
DESCRIPTION:
URL:http://mountofolives.net/event/womens-bible-study/2025-02-26/
END:VEVENT
BEGIN:VEVENT
DTSTART;TZID=America/Chicago:20250226T180000
DTEND;TZID=America/Chicago:20250226T193000
DTSTAMP:20260422T091912
CREATED:20221004T175240Z
LAST-MODIFIED:20221004T175240Z
UID:6072-1740592800-1740598200@mountofolives.net
SUMMARY:Kid's Club
DESCRIPTION:A night of Bible learning and fun for K-5th graders! \n
URL:http://mountofolives.net/event/kids-club/2025-02-26/
END:VEVENT
BEGIN:VEVENT
DTSTART;TZID=America/Chicago:20250226T180000
DTEND;TZID=America/Chicago:20250226T193000
DTSTAMP:20260422T091912
CREATED:20240815T195943Z
LAST-MODIFIED:20241126T185927Z
UID:7993-1740592800-1740598200@mountofolives.net
SUMMARY:Youth Group
DESCRIPTION:
URL:http://mountofolives.net/event/youth-group/2025-02-26/
END:VEVENT
BEGIN:VEVENT
DTSTART;TZID=America/Chicago:20250226T180000
DTEND;TZID=America/Chicago:20250226T193000
DTSTAMP:20260422T091912
CREATED:20240816T132845Z
LAST-MODIFIED:20241120T222716Z
UID:8038-1740592800-1740598200@mountofolives.net
SUMMARY:Prayer Meeting
DESCRIPTION:
URL:http://mountofolives.net/event/prayer-meeting-3/2025-02-26/
END:VEVENT
BEGIN:VEVENT
DTSTART;TZID=America/Chicago:20250226T180000
DTEND;TZID=America/Chicago:20250226T193000
DTSTAMP:20260422T091912
CREATED:20240816T183017Z
LAST-MODIFIED:20241120T222616Z
UID:8151-1740592800-1740598200@mountofolives.net
SUMMARY:Kingdom Kids
DESCRIPTION:
URL:http://mountofolives.net/event/kingdom-kids/2025-02-26/
END:VEVENT
END:VCALENDAR