BEGIN:VCALENDAR
VERSION:2.0
PRODID:-//Mount of Olives Baptist Church - ECPv4.9.3.2//NONSGML v1.0//EN
CALSCALE:GREGORIAN
METHOD:PUBLISH
X-WR-CALNAME:Mount of Olives Baptist Church
X-ORIGINAL-URL:http://mountofolives.net
X-WR-CALDESC:Events for Mount of Olives Baptist Church
BEGIN:VEVENT
DTSTART;TZID=America/Chicago:20250409T090000
DTEND;TZID=America/Chicago:20250409T103000
DTSTAMP:20260422T073733
CREATED:20240816T182849Z
LAST-MODIFIED:20241119T160712Z
UID:8120-1744189200-1744194600@mountofolives.net
SUMMARY:Women's Bible Study
DESCRIPTION:
URL:http://mountofolives.net/event/womens-bible-study/2025-04-09/
END:VEVENT
BEGIN:VEVENT
DTSTART;TZID=America/Chicago:20250409T180000
DTEND;TZID=America/Chicago:20250409T193000
DTSTAMP:20260422T073733
CREATED:20221004T175240Z
LAST-MODIFIED:20221004T175240Z
UID:6300-1744221600-1744227000@mountofolives.net
SUMMARY:Kid's Club
DESCRIPTION:A night of Bible learning and fun for K-5th graders! \n
URL:http://mountofolives.net/event/kids-club/2025-04-09/
END:VEVENT
BEGIN:VEVENT
DTSTART;TZID=America/Chicago:20250409T180000
DTEND;TZID=America/Chicago:20250409T193000
DTSTAMP:20260422T073733
CREATED:20240815T195943Z
LAST-MODIFIED:20241126T185930Z
UID:7998-1744221600-1744227000@mountofolives.net
SUMMARY:Youth Group
DESCRIPTION:
URL:http://mountofolives.net/event/youth-group/2025-04-09/
END:VEVENT
BEGIN:VEVENT
DTSTART;TZID=America/Chicago:20250409T180000
DTEND;TZID=America/Chicago:20250409T193000
DTSTAMP:20260422T073733
CREATED:20240816T132845Z
LAST-MODIFIED:20241120T222719Z
UID:8044-1744221600-1744227000@mountofolives.net
SUMMARY:Prayer Meeting
DESCRIPTION:
URL:http://mountofolives.net/event/prayer-meeting-3/2025-04-09/
END:VEVENT
BEGIN:VEVENT
DTSTART;TZID=America/Chicago:20250409T180000
DTEND;TZID=America/Chicago:20250409T193000
DTSTAMP:20260422T073733
CREATED:20240816T183017Z
LAST-MODIFIED:20241120T222620Z
UID:8157-1744221600-1744227000@mountofolives.net
SUMMARY:Kingdom Kids
DESCRIPTION:
URL:http://mountofolives.net/event/kingdom-kids/2025-04-09/
END:VEVENT
END:VCALENDAR