BEGIN:VCALENDAR
VERSION:2.0
PRODID:-//Mount of Olives Baptist Church - ECPv4.9.3.2//NONSGML v1.0//EN
CALSCALE:GREGORIAN
METHOD:PUBLISH
X-WR-CALNAME:Mount of Olives Baptist Church
X-ORIGINAL-URL:http://mountofolives.net
X-WR-CALDESC:Events for Mount of Olives Baptist Church
BEGIN:VEVENT
DTSTART;TZID=America/Chicago:20250423T090000
DTEND;TZID=America/Chicago:20250423T103000
DTSTAMP:20260422T103241
CREATED:20240816T182849Z
LAST-MODIFIED:20241119T160713Z
UID:8122-1745398800-1745404200@mountofolives.net
SUMMARY:Women's Bible Study
DESCRIPTION:
URL:http://mountofolives.net/event/womens-bible-study/2025-04-23/
END:VEVENT
BEGIN:VEVENT
DTSTART;TZID=America/Chicago:20250423T180000
DTEND;TZID=America/Chicago:20250423T193000
DTSTAMP:20260422T103241
CREATED:20240815T195943Z
LAST-MODIFIED:20250423T220805Z
UID:8000-1745431200-1745436600@mountofolives.net
SUMMARY:Youth Group
DESCRIPTION:
URL:http://mountofolives.net/event/youth-group/2025-04-23/
END:VEVENT
BEGIN:VEVENT
DTSTART;TZID=America/Chicago:20250423T180000
DTEND;TZID=America/Chicago:20250423T193000
DTSTAMP:20260422T103241
CREATED:20240816T132845Z
LAST-MODIFIED:20250410T150346Z
UID:8046-1745431200-1745436600@mountofolives.net
SUMMARY:Prayer Meeting
DESCRIPTION:
URL:http://mountofolives.net/event/prayer-meeting-3/2025-04-23/
END:VEVENT
BEGIN:VEVENT
DTSTART;TZID=America/Chicago:20250423T180000
DTEND;TZID=America/Chicago:20250423T193000
DTSTAMP:20260422T103241
CREATED:20240816T183017Z
LAST-MODIFIED:20250423T221420Z
UID:8159-1745431200-1745436600@mountofolives.net
SUMMARY:Kingdom Kids
DESCRIPTION:
URL:http://mountofolives.net/event/kingdom-kids/2025-04-23/
END:VEVENT
END:VCALENDAR