BEGIN:VCALENDAR
VERSION:2.0
PRODID:-//Mount of Olives Baptist Church - ECPv4.9.3.2//NONSGML v1.0//EN
CALSCALE:GREGORIAN
METHOD:PUBLISH
X-WR-CALNAME:Mount of Olives Baptist Church
X-ORIGINAL-URL:http://mountofolives.net
X-WR-CALDESC:Events for Mount of Olives Baptist Church
BEGIN:VEVENT
DTSTART;TZID=America/Chicago:20250430T090000
DTEND;TZID=America/Chicago:20250430T103000
DTSTAMP:20260422T055025
CREATED:20240816T182849Z
LAST-MODIFIED:20241119T160714Z
UID:8123-1746003600-1746009000@mountofolives.net
SUMMARY:Women's Bible Study
DESCRIPTION:
URL:http://mountofolives.net/event/womens-bible-study/2025-04-30/
END:VEVENT
BEGIN:VEVENT
DTSTART;TZID=America/Chicago:20250430T180000
DTEND;TZID=America/Chicago:20250430T193000
DTSTAMP:20260422T055025
CREATED:20240815T195943Z
LAST-MODIFIED:20250423T220805Z
UID:8001-1746036000-1746041400@mountofolives.net
SUMMARY:Youth Group
DESCRIPTION:
URL:http://mountofolives.net/event/youth-group/2025-04-30/
END:VEVENT
BEGIN:VEVENT
DTSTART;TZID=America/Chicago:20250430T180000
DTEND;TZID=America/Chicago:20250430T193000
DTSTAMP:20260422T055025
CREATED:20240816T132845Z
LAST-MODIFIED:20250410T150346Z
UID:8047-1746036000-1746041400@mountofolives.net
SUMMARY:Prayer Meeting
DESCRIPTION:
URL:http://mountofolives.net/event/prayer-meeting-3/2025-04-30/
END:VEVENT
BEGIN:VEVENT
DTSTART;TZID=America/Chicago:20250430T180000
DTEND;TZID=America/Chicago:20250430T193000
DTSTAMP:20260422T055025
CREATED:20240816T183017Z
LAST-MODIFIED:20250423T221421Z
UID:8160-1746036000-1746041400@mountofolives.net
SUMMARY:Kingdom Kids
DESCRIPTION:
URL:http://mountofolives.net/event/kingdom-kids/2025-04-30/
END:VEVENT
END:VCALENDAR