BEGIN:VCALENDAR
VERSION:2.0
PRODID:-//Mount of Olives Baptist Church - ECPv4.9.3.2//NONSGML v1.0//EN
CALSCALE:GREGORIAN
METHOD:PUBLISH
X-WR-CALNAME:Mount of Olives Baptist Church
X-ORIGINAL-URL:http://mountofolives.net
X-WR-CALDESC:Events for Mount of Olives Baptist Church
BEGIN:VEVENT
DTSTART;TZID=America/Chicago:20250507T090000
DTEND;TZID=America/Chicago:20250507T103000
DTSTAMP:20260422T054620
CREATED:20240816T182849Z
LAST-MODIFIED:20241119T160715Z
UID:8124-1746608400-1746613800@mountofolives.net
SUMMARY:Women's Bible Study
DESCRIPTION:
URL:http://mountofolives.net/event/womens-bible-study/2025-05-07/
END:VEVENT
BEGIN:VEVENT
DTSTART;TZID=America/Chicago:20250507T180000
DTEND;TZID=America/Chicago:20250507T193000
DTSTAMP:20260422T054620
CREATED:20240815T195943Z
LAST-MODIFIED:20250423T220806Z
UID:8002-1746640800-1746646200@mountofolives.net
SUMMARY:Youth Group
DESCRIPTION:
URL:http://mountofolives.net/event/youth-group/2025-05-07/
END:VEVENT
BEGIN:VEVENT
DTSTART;TZID=America/Chicago:20250507T180000
DTEND;TZID=America/Chicago:20250507T193000
DTSTAMP:20260422T054620
CREATED:20240816T132845Z
LAST-MODIFIED:20250410T150349Z
UID:8048-1746640800-1746646200@mountofolives.net
SUMMARY:Prayer Meeting
DESCRIPTION:
URL:http://mountofolives.net/event/prayer-meeting-3/2025-05-07/
END:VEVENT
BEGIN:VEVENT
DTSTART;TZID=America/Chicago:20250507T180000
DTEND;TZID=America/Chicago:20250507T193000
DTSTAMP:20260422T054620
CREATED:20240816T183017Z
LAST-MODIFIED:20250501T211642Z
UID:8161-1746640800-1746646200@mountofolives.net
SUMMARY:Kingdom Kids
DESCRIPTION:
URL:http://mountofolives.net/event/kingdom-kids/2025-05-07/
END:VEVENT
END:VCALENDAR