BEGIN:VCALENDAR
VERSION:2.0
PRODID:-//Mount of Olives Baptist Church - ECPv4.9.3.2//NONSGML v1.0//EN
CALSCALE:GREGORIAN
METHOD:PUBLISH
X-WR-CALNAME:Mount of Olives Baptist Church
X-ORIGINAL-URL:http://mountofolives.net
X-WR-CALDESC:Events for Mount of Olives Baptist Church
BEGIN:VEVENT
DTSTART;TZID=America/Chicago:20250528T090000
DTEND;TZID=America/Chicago:20250528T103000
DTSTAMP:20260422T055245
CREATED:20240816T182849Z
LAST-MODIFIED:20241119T160717Z
UID:8128-1748422800-1748428200@mountofolives.net
SUMMARY:Women's Bible Study
DESCRIPTION:
URL:http://mountofolives.net/event/womens-bible-study/2025-05-28/
END:VEVENT
BEGIN:VEVENT
DTSTART;TZID=America/Chicago:20250528T180000
DTEND;TZID=America/Chicago:20250528T193000
DTSTAMP:20260422T055245
CREATED:20240816T132845Z
LAST-MODIFIED:20250410T150351Z
UID:8051-1748455200-1748460600@mountofolives.net
SUMMARY:Prayer Meeting
DESCRIPTION:
URL:http://mountofolives.net/event/prayer-meeting-3/2025-05-28/
END:VEVENT
END:VCALENDAR