BEGIN:VCALENDAR
VERSION:2.0
PRODID:-//Mount of Olives Baptist Church - ECPv4.9.3.2//NONSGML v1.0//EN
CALSCALE:GREGORIAN
METHOD:PUBLISH
X-WR-CALNAME:Mount of Olives Baptist Church
X-ORIGINAL-URL:http://mountofolives.net
X-WR-CALDESC:Events for Mount of Olives Baptist Church
BEGIN:VEVENT
DTSTART;TZID=America/Chicago:20250628T080000
DTEND;TZID=America/Chicago:20250628T100000
DTSTAMP:20260421T085923
CREATED:20250521T165911Z
LAST-MODIFIED:20250521T165911Z
UID:8762-1751097600-1751104800@mountofolives.net
SUMMARY:Men's Breakfast
DESCRIPTION:
URL:http://mountofolives.net/event/mens-breakfast-23/
END:VEVENT
END:VCALENDAR