BEGIN:VCALENDAR
VERSION:2.0
PRODID:-//Mount of Olives Baptist Church - ECPv4.9.3.2//NONSGML v1.0//EN
CALSCALE:GREGORIAN
METHOD:PUBLISH
X-WR-CALNAME:Mount of Olives Baptist Church
X-ORIGINAL-URL:http://mountofolives.net
X-WR-CALDESC:Events for Mount of Olives Baptist Church
BEGIN:VEVENT
DTSTART;TZID=America/Chicago:20250910T090000
DTEND;TZID=America/Chicago:20250910T103000
DTSTAMP:20260421T221540
CREATED:20250909T155532Z
LAST-MODIFIED:20260416T170926Z
UID:8857-1757494800-1757500200@mountofolives.net
SUMMARY:Women's Bible Study
DESCRIPTION:
URL:http://mountofolives.net/event/womens-bible-study-2/2025-09-10/
END:VEVENT
BEGIN:VEVENT
DTSTART;TZID=America/Chicago:20250910T180000
DTEND;TZID=America/Chicago:20250910T193000
DTSTAMP:20260421T221540
CREATED:20250909T154841Z
LAST-MODIFIED:20260416T170656Z
UID:8847-1757527200-1757532600@mountofolives.net
SUMMARY:Youth Group
DESCRIPTION:
URL:http://mountofolives.net/event/youth-group-2/2025-09-10/
END:VEVENT
BEGIN:VEVENT
DTSTART;TZID=America/Chicago:20250910T180000
DTEND;TZID=America/Chicago:20250910T193000
DTSTAMP:20260421T221540
CREATED:20250909T155020Z
LAST-MODIFIED:20260416T170541Z
UID:8852-1757527200-1757532600@mountofolives.net
SUMMARY:Prayer Gathering
DESCRIPTION:
URL:http://mountofolives.net/event/prayer-gathering-10/2025-09-10/
END:VEVENT
END:VCALENDAR