BEGIN:VCALENDAR
VERSION:2.0
PRODID:-//Mount of Olives Baptist Church - ECPv4.9.3.2//NONSGML v1.0//EN
CALSCALE:GREGORIAN
METHOD:PUBLISH
X-WR-CALNAME:Mount of Olives Baptist Church
X-ORIGINAL-URL:http://mountofolives.net
X-WR-CALDESC:Events for Mount of Olives Baptist Church
BEGIN:VEVENT
DTSTART;TZID=America/Chicago:20250924T090000
DTEND;TZID=America/Chicago:20250924T103000
DTSTAMP:20260421T221628
CREATED:20250909T155532Z
LAST-MODIFIED:20250909T155532Z
UID:9126-1758704400-1758709800@mountofolives.net
SUMMARY:Women's Bible Study
DESCRIPTION:
URL:http://mountofolives.net/event/womens-bible-study-2/2025-09-24/
END:VEVENT
BEGIN:VEVENT
DTSTART;TZID=America/Chicago:20250924T180000
DTEND;TZID=America/Chicago:20250924T193000
DTSTAMP:20260421T221628
CREATED:20250909T154841Z
LAST-MODIFIED:20250923T154034Z
UID:8850-1758736800-1758742200@mountofolives.net
SUMMARY:Youth Group
DESCRIPTION:
URL:http://mountofolives.net/event/youth-group-2/2025-09-24/
END:VEVENT
BEGIN:VEVENT
DTSTART;TZID=America/Chicago:20250924T180000
DTEND;TZID=America/Chicago:20250924T193000
DTSTAMP:20260421T221628
CREATED:20250909T155020Z
LAST-MODIFIED:20250923T154138Z
UID:8855-1758736800-1758742200@mountofolives.net
SUMMARY:Prayer Gathering
DESCRIPTION:
URL:http://mountofolives.net/event/prayer-gathering-10/2025-09-24/
END:VEVENT
BEGIN:VEVENT
DTSTART;TZID=America/Chicago:20250924T180000
DTEND;TZID=America/Chicago:20250924T193000
DTSTAMP:20260421T221628
CREATED:20250916T165629Z
LAST-MODIFIED:20250923T154225Z
UID:8876-1758736800-1758742200@mountofolives.net
SUMMARY:Kingdom Kids
DESCRIPTION:
URL:http://mountofolives.net/event/kingdom-kids-2/2025-09-24/
END:VEVENT
END:VCALENDAR