BEGIN:VCALENDAR
VERSION:2.0
PRODID:-//Mount of Olives Baptist Church - ECPv4.9.3.2//NONSGML v1.0//EN
CALSCALE:GREGORIAN
METHOD:PUBLISH
X-WR-CALNAME:Mount of Olives Baptist Church
X-ORIGINAL-URL:http://mountofolives.net
X-WR-CALDESC:Events for Mount of Olives Baptist Church
BEGIN:VEVENT
DTSTART;TZID=America/Chicago:20251022T090000
DTEND;TZID=America/Chicago:20251022T103000
DTSTAMP:20260421T202745
CREATED:20250909T155532Z
LAST-MODIFIED:20250909T155532Z
UID:9130-1761123600-1761129000@mountofolives.net
SUMMARY:Women's Bible Study
DESCRIPTION:
URL:http://mountofolives.net/event/womens-bible-study-2/2025-10-22/
END:VEVENT
BEGIN:VEVENT
DTSTART;TZID=America/Chicago:20251022T180000
DTEND;TZID=America/Chicago:20251022T193000
DTSTAMP:20260421T202745
CREATED:20250909T154841Z
LAST-MODIFIED:20251021T170142Z
UID:9104-1761156000-1761161400@mountofolives.net
SUMMARY:Youth Group
DESCRIPTION:
URL:http://mountofolives.net/event/youth-group-2/2025-10-22/
END:VEVENT
BEGIN:VEVENT
DTSTART;TZID=America/Chicago:20251022T180000
DTEND;TZID=America/Chicago:20251022T193000
DTSTAMP:20260421T202745
CREATED:20250909T155020Z
LAST-MODIFIED:20251021T170102Z
UID:9110-1761156000-1761161400@mountofolives.net
SUMMARY:Prayer Gathering
DESCRIPTION:
URL:http://mountofolives.net/event/prayer-gathering-10/2025-10-22/
END:VEVENT
END:VCALENDAR