BEGIN:VCALENDAR
VERSION:2.0
PRODID:-//Mount of Olives Baptist Church - ECPv4.9.3.2//NONSGML v1.0//EN
CALSCALE:GREGORIAN
METHOD:PUBLISH
X-WR-CALNAME:Mount of Olives Baptist Church
X-ORIGINAL-URL:http://mountofolives.net
X-WR-CALDESC:Events for Mount of Olives Baptist Church
BEGIN:VEVENT
DTSTART;TZID=America/Chicago:20251119T090000
DTEND;TZID=America/Chicago:20251119T103000
DTSTAMP:20260421T191405
CREATED:20250909T155532Z
LAST-MODIFIED:20250909T155532Z
UID:9134-1763542800-1763548200@mountofolives.net
SUMMARY:Women's Bible Study
DESCRIPTION:
URL:http://mountofolives.net/event/womens-bible-study-2/2025-11-19/
END:VEVENT
BEGIN:VEVENT
DTSTART;TZID=America/Chicago:20251119T180000
DTEND;TZID=America/Chicago:20251119T193000
DTSTAMP:20260421T191405
CREATED:20250909T154841Z
LAST-MODIFIED:20251021T170145Z
UID:9167-1763575200-1763580600@mountofolives.net
SUMMARY:Youth Group
DESCRIPTION:
URL:http://mountofolives.net/event/youth-group-2/2025-11-19/
END:VEVENT
BEGIN:VEVENT
DTSTART;TZID=America/Chicago:20251119T180000
DTEND;TZID=America/Chicago:20251119T193000
DTSTAMP:20260421T191405
CREATED:20250909T155020Z
LAST-MODIFIED:20251021T170105Z
UID:9178-1763575200-1763580600@mountofolives.net
SUMMARY:Prayer Gathering
DESCRIPTION:
URL:http://mountofolives.net/event/prayer-gathering-10/2025-11-19/
END:VEVENT
BEGIN:VEVENT
DTSTART;TZID=America/Chicago:20251119T180000
DTEND;TZID=America/Chicago:20251119T193000
DTSTAMP:20260421T191405
CREATED:20250916T165629Z
LAST-MODIFIED:20251021T165844Z
UID:9189-1763575200-1763580600@mountofolives.net
SUMMARY:Kingdom Kids
DESCRIPTION:
URL:http://mountofolives.net/event/kingdom-kids-2/2025-11-19/
END:VEVENT
END:VCALENDAR