BEGIN:VCALENDAR
VERSION:2.0
PRODID:-//Mount of Olives Baptist Church - ECPv4.9.3.2//NONSGML v1.0//EN
CALSCALE:GREGORIAN
METHOD:PUBLISH
X-WR-CALNAME:Mount of Olives Baptist Church
X-ORIGINAL-URL:http://mountofolives.net
X-WR-CALDESC:Events for Mount of Olives Baptist Church
BEGIN:VEVENT
DTSTART;TZID=America/Chicago:20251224T090000
DTEND;TZID=America/Chicago:20251224T103000
DTSTAMP:20260421T174604
CREATED:20250909T155532Z
LAST-MODIFIED:20250909T155532Z
UID:9400-1766566800-1766572200@mountofolives.net
SUMMARY:Women's Bible Study
DESCRIPTION:
URL:http://mountofolives.net/event/womens-bible-study-2/2025-12-24/
END:VEVENT
BEGIN:VEVENT
DTSTART;TZID=America/Chicago:20251224T170000
DTEND;TZID=America/Chicago:20251224T183000
DTSTAMP:20260421T174604
CREATED:20251112T234537Z
LAST-MODIFIED:20251218T155933Z
UID:9283-1766595600-1766601000@mountofolives.net
SUMMARY:Christmas Eve Service
DESCRIPTION:
URL:http://mountofolives.net/event/christmas-eve-service/
END:VEVENT
BEGIN:VEVENT
DTSTART;TZID=America/Chicago:20251224T180000
DTEND;TZID=America/Chicago:20251224T193000
DTSTAMP:20260421T174604
CREATED:20250909T154841Z
LAST-MODIFIED:20250909T154841Z
UID:9303-1766599200-1766604600@mountofolives.net
SUMMARY:Youth Group
DESCRIPTION:
URL:http://mountofolives.net/event/youth-group-2/2025-12-24/
END:VEVENT
BEGIN:VEVENT
DTSTART;TZID=America/Chicago:20251224T180000
DTEND;TZID=America/Chicago:20251224T193000
DTSTAMP:20260421T174604
CREATED:20250909T155020Z
LAST-MODIFIED:20250909T155020Z
UID:9318-1766599200-1766604600@mountofolives.net
SUMMARY:Prayer Gathering
DESCRIPTION:
URL:http://mountofolives.net/event/prayer-gathering-10/2025-12-24/
END:VEVENT
BEGIN:VEVENT
DTSTART;TZID=America/Chicago:20251224T180000
DTEND;TZID=America/Chicago:20251224T193000
DTSTAMP:20260421T174604
CREATED:20250916T165629Z
LAST-MODIFIED:20250916T165629Z
UID:9333-1766599200-1766604600@mountofolives.net
SUMMARY:Kingdom Kids
DESCRIPTION:
URL:http://mountofolives.net/event/kingdom-kids-2/2025-12-24/
END:VEVENT
END:VCALENDAR