BEGIN:VCALENDAR
VERSION:2.0
PRODID:-//Mount of Olives Baptist Church - ECPv4.9.3.2//NONSGML v1.0//EN
CALSCALE:GREGORIAN
METHOD:PUBLISH
X-WR-CALNAME:Mount of Olives Baptist Church
X-ORIGINAL-URL:http://mountofolives.net
X-WR-CALDESC:Events for Mount of Olives Baptist Church
BEGIN:VEVENT
DTSTART;TZID=America/Chicago:20260204T090000
DTEND;TZID=America/Chicago:20260204T103000
DTSTAMP:20260421T175026
CREATED:20250909T155532Z
LAST-MODIFIED:20250909T155532Z
UID:9406-1770195600-1770201000@mountofolives.net
SUMMARY:Women's Bible Study
DESCRIPTION:
URL:http://mountofolives.net/event/womens-bible-study-2/2026-02-04/
END:VEVENT
BEGIN:VEVENT
DTSTART;TZID=America/Chicago:20260204T180000
DTEND;TZID=America/Chicago:20260204T193000
DTSTAMP:20260421T175026
CREATED:20250909T154841Z
LAST-MODIFIED:20260102T205202Z
UID:9309-1770228000-1770233400@mountofolives.net
SUMMARY:Youth Group
DESCRIPTION:
URL:http://mountofolives.net/event/youth-group-2/2026-02-04/
END:VEVENT
BEGIN:VEVENT
DTSTART;TZID=America/Chicago:20260204T180000
DTEND;TZID=America/Chicago:20260204T193000
DTSTAMP:20260421T175026
CREATED:20250909T155020Z
LAST-MODIFIED:20260102T205112Z
UID:9324-1770228000-1770233400@mountofolives.net
SUMMARY:Prayer Gathering
DESCRIPTION:
URL:http://mountofolives.net/event/prayer-gathering-10/2026-02-04/
END:VEVENT
BEGIN:VEVENT
DTSTART;TZID=America/Chicago:20260204T180000
DTEND;TZID=America/Chicago:20260204T193000
DTSTAMP:20260421T175026
CREATED:20250916T165629Z
LAST-MODIFIED:20250916T165629Z
UID:9339-1770228000-1770233400@mountofolives.net
SUMMARY:Kingdom Kids
DESCRIPTION:
URL:http://mountofolives.net/event/kingdom-kids-2/2026-02-04/
END:VEVENT
END:VCALENDAR