BEGIN:VCALENDAR
VERSION:2.0
PRODID:-//Mount of Olives Baptist Church - ECPv4.9.3.2//NONSGML v1.0//EN
CALSCALE:GREGORIAN
METHOD:PUBLISH
X-WR-CALNAME:Mount of Olives Baptist Church
X-ORIGINAL-URL:http://mountofolives.net
X-WR-CALDESC:Events for Mount of Olives Baptist Church
BEGIN:VEVENT
DTSTART;TZID=America/Chicago:20260211T090000
DTEND;TZID=America/Chicago:20260211T103000
DTSTAMP:20260421T160605
CREATED:20250909T155532Z
LAST-MODIFIED:20250909T155532Z
UID:9407-1770800400-1770805800@mountofolives.net
SUMMARY:Women's Bible Study
DESCRIPTION:
URL:http://mountofolives.net/event/womens-bible-study-2/2026-02-11/
END:VEVENT
BEGIN:VEVENT
DTSTART;TZID=America/Chicago:20260211T180000
DTEND;TZID=America/Chicago:20260211T193000
DTSTAMP:20260421T160605
CREATED:20250909T154841Z
LAST-MODIFIED:20260102T205203Z
UID:9310-1770832800-1770838200@mountofolives.net
SUMMARY:Youth Group
DESCRIPTION:
URL:http://mountofolives.net/event/youth-group-2/2026-02-11/
END:VEVENT
BEGIN:VEVENT
DTSTART;TZID=America/Chicago:20260211T180000
DTEND;TZID=America/Chicago:20260211T193000
DTSTAMP:20260421T160605
CREATED:20250909T155020Z
LAST-MODIFIED:20260102T205112Z
UID:9325-1770832800-1770838200@mountofolives.net
SUMMARY:Prayer Gathering
DESCRIPTION:
URL:http://mountofolives.net/event/prayer-gathering-10/2026-02-11/
END:VEVENT
BEGIN:VEVENT
DTSTART;TZID=America/Chicago:20260211T180000
DTEND;TZID=America/Chicago:20260211T193000
DTSTAMP:20260421T160605
CREATED:20250916T165629Z
LAST-MODIFIED:20250916T165629Z
UID:9340-1770832800-1770838200@mountofolives.net
SUMMARY:Kingdom Kids
DESCRIPTION:
URL:http://mountofolives.net/event/kingdom-kids-2/2026-02-11/
END:VEVENT
END:VCALENDAR