BEGIN:VCALENDAR
VERSION:2.0
PRODID:-//Mount of Olives Baptist Church - ECPv4.9.3.2//NONSGML v1.0//EN
CALSCALE:GREGORIAN
METHOD:PUBLISH
X-WR-CALNAME:Mount of Olives Baptist Church
X-ORIGINAL-URL:http://mountofolives.net
X-WR-CALDESC:Events for Mount of Olives Baptist Church
BEGIN:VEVENT
DTSTART;TZID=America/Chicago:20260218T090000
DTEND;TZID=America/Chicago:20260218T103000
DTSTAMP:20260421T142859
CREATED:20250909T155532Z
LAST-MODIFIED:20250909T155532Z
UID:9408-1771405200-1771410600@mountofolives.net
SUMMARY:Women's Bible Study
DESCRIPTION:
URL:http://mountofolives.net/event/womens-bible-study-2/2026-02-18/
END:VEVENT
BEGIN:VEVENT
DTSTART;TZID=America/Chicago:20260218T180000
DTEND;TZID=America/Chicago:20260218T193000
DTSTAMP:20260421T142859
CREATED:20250909T154841Z
LAST-MODIFIED:20260102T205203Z
UID:9311-1771437600-1771443000@mountofolives.net
SUMMARY:Youth Group
DESCRIPTION:
URL:http://mountofolives.net/event/youth-group-2/2026-02-18/
END:VEVENT
BEGIN:VEVENT
DTSTART;TZID=America/Chicago:20260218T180000
DTEND;TZID=America/Chicago:20260218T193000
DTSTAMP:20260421T142859
CREATED:20250909T155020Z
LAST-MODIFIED:20260102T205113Z
UID:9326-1771437600-1771443000@mountofolives.net
SUMMARY:Prayer Gathering
DESCRIPTION:
URL:http://mountofolives.net/event/prayer-gathering-10/2026-02-18/
END:VEVENT
BEGIN:VEVENT
DTSTART;TZID=America/Chicago:20260218T180000
DTEND;TZID=America/Chicago:20260218T193000
DTSTAMP:20260421T142859
CREATED:20250916T165629Z
LAST-MODIFIED:20250916T165629Z
UID:9341-1771437600-1771443000@mountofolives.net
SUMMARY:Kingdom Kids
DESCRIPTION:
URL:http://mountofolives.net/event/kingdom-kids-2/2026-02-18/
END:VEVENT
END:VCALENDAR