BEGIN:VCALENDAR
VERSION:2.0
PRODID:-//Mount of Olives Baptist Church - ECPv4.9.3.2//NONSGML v1.0//EN
CALSCALE:GREGORIAN
METHOD:PUBLISH
X-WR-CALNAME:Mount of Olives Baptist Church
X-ORIGINAL-URL:http://mountofolives.net
X-WR-CALDESC:Events for Mount of Olives Baptist Church
BEGIN:VEVENT
DTSTART;TZID=America/Chicago:20260219T090000
DTEND;TZID=America/Chicago:20260219T103000
DTSTAMP:20260421T142904
CREATED:20250909T160212Z
LAST-MODIFIED:20260102T205607Z
UID:9394-1771491600-1771497000@mountofolives.net
SUMMARY:Women's Prayer Group
DESCRIPTION:
URL:http://mountofolives.net/event/womens-prayer-group-2/2026-02-19/
END:VEVENT
BEGIN:VEVENT
DTSTART;TZID=America/Chicago:20260219T113000
DTEND;TZID=America/Chicago:20260219T130000
DTSTAMP:20260421T142904
CREATED:20260129T183713Z
LAST-MODIFIED:20260129T183713Z
UID:9475-1771500600-1771506000@mountofolives.net
SUMMARY:Energizers
DESCRIPTION:
URL:http://mountofolives.net/event/energizers-3/
END:VEVENT
END:VCALENDAR