BEGIN:VCALENDAR
VERSION:2.0
PRODID:-//Mount of Olives Baptist Church - ECPv4.9.3.2//NONSGML v1.0//EN
CALSCALE:GREGORIAN
METHOD:PUBLISH
X-WR-CALNAME:Mount of Olives Baptist Church
X-ORIGINAL-URL:http://mountofolives.net
X-WR-CALDESC:Events for Mount of Olives Baptist Church
BEGIN:VEVENT
DTSTART;TZID=America/Chicago:20260513T090000
DTEND;TZID=America/Chicago:20260513T103000
DTSTAMP:20260421T143007
CREATED:20250909T155532Z
LAST-MODIFIED:20250909T155532Z
UID:9551-1778662800-1778668200@mountofolives.net
SUMMARY:Women's Bible Study
DESCRIPTION:
URL:http://mountofolives.net/event/womens-bible-study-2/2026-05-13/
END:VEVENT
BEGIN:VEVENT
DTSTART;TZID=America/Chicago:20260513T180000
DTEND;TZID=America/Chicago:20260513T193000
DTSTAMP:20260421T143007
CREATED:20250909T154841Z
LAST-MODIFIED:20250909T154841Z
UID:9542-1778695200-1778700600@mountofolives.net
SUMMARY:Youth Group
DESCRIPTION:
URL:http://mountofolives.net/event/youth-group-2/2026-05-13/
END:VEVENT
BEGIN:VEVENT
DTSTART;TZID=America/Chicago:20260513T180000
DTEND;TZID=America/Chicago:20260513T193000
DTSTAMP:20260421T143007
CREATED:20250909T155020Z
LAST-MODIFIED:20250909T155020Z
UID:9536-1778695200-1778700600@mountofolives.net
SUMMARY:Prayer Gathering
DESCRIPTION:
URL:http://mountofolives.net/event/prayer-gathering-10/2026-05-13/
END:VEVENT
BEGIN:VEVENT
DTSTART;TZID=America/Chicago:20260513T180000
DTEND;TZID=America/Chicago:20260513T193000
DTSTAMP:20260421T143007
CREATED:20250916T165629Z
LAST-MODIFIED:20250916T165629Z
UID:9539-1778695200-1778700600@mountofolives.net
SUMMARY:Kingdom Kids
DESCRIPTION:
URL:http://mountofolives.net/event/kingdom-kids-2/2026-05-13/
END:VEVENT
END:VCALENDAR