BEGIN:VCALENDAR
VERSION:2.0
PRODID:-//Mount of Olives Baptist Church - ECPv4.9.3.2//NONSGML v1.0//EN
CALSCALE:GREGORIAN
METHOD:PUBLISH
X-WR-CALNAME:Mount of Olives Baptist Church
X-ORIGINAL-URL:http://mountofolives.net
X-WR-CALDESC:Events for Mount of Olives Baptist Church
BEGIN:VEVENT
DTSTART;TZID=America/Chicago:20260331T063000
DTEND;TZID=America/Chicago:20260331T080000
DTSTAMP:20260421T050513
CREATED:20260102T210013Z
LAST-MODIFIED:20260102T210013Z
UID:9455-1774938600-1774944000@mountofolives.net
SUMMARY:Men's Bible Study
DESCRIPTION:
URL:http://mountofolives.net/event/mens-bible-study-16/2026-03-31/
END:VEVENT
BEGIN:VEVENT
DTSTART;TZID=America/Chicago:20260401T090000
DTEND;TZID=America/Chicago:20260401T103000
DTSTAMP:20260421T050513
CREATED:20250909T155532Z
LAST-MODIFIED:20250909T155532Z
UID:9414-1775034000-1775039400@mountofolives.net
SUMMARY:Women's Bible Study
DESCRIPTION:
URL:http://mountofolives.net/event/womens-bible-study-2/2026-04-01/
END:VEVENT
BEGIN:VEVENT
DTSTART;TZID=America/Chicago:20260402T090000
DTEND;TZID=America/Chicago:20260402T103000
DTSTAMP:20260421T050513
CREATED:20250909T160212Z
LAST-MODIFIED:20250909T160212Z
UID:9419-1775120400-1775125800@mountofolives.net
SUMMARY:Women's Prayer Group
DESCRIPTION:
URL:http://mountofolives.net/event/womens-prayer-group-2/2026-04-02/
END:VEVENT
BEGIN:VEVENT
DTSTART;TZID=America/Chicago:20260402T180000
DTEND;TZID=America/Chicago:20260402T193000
DTSTAMP:20260421T050513
CREATED:20260323T143420Z
LAST-MODIFIED:20260323T143420Z
UID:9500-1775152800-1775158200@mountofolives.net
SUMMARY:Maundy Thursday Service
DESCRIPTION:
URL:http://mountofolives.net/event/maundy-thursday-service/
END:VEVENT
BEGIN:VEVENT
DTSTART;TZID=America/Chicago:20260403T180000
DTEND;TZID=America/Chicago:20260403T193000
DTSTAMP:20260421T050513
CREATED:20260323T143520Z
LAST-MODIFIED:20260323T143520Z
UID:9502-1775239200-1775244600@mountofolives.net
SUMMARY:Good Friday Service
DESCRIPTION:
URL:http://mountofolives.net/event/good-friday-service-2/
END:VEVENT
BEGIN:VEVENT
DTSTART;TZID=America/Chicago:20260405T093000
DTEND;TZID=America/Chicago:20260405T103000
DTSTAMP:20260421T050513
CREATED:20260323T143610Z
LAST-MODIFIED:20260323T143610Z
UID:9504-1775381400-1775385000@mountofolives.net
SUMMARY:Easter Sunday Breakfast Potluck
DESCRIPTION:
URL:http://mountofolives.net/event/easter-sunday-breakfast-potluck/
END:VEVENT
BEGIN:VEVENT
DTSTART;TZID=America/Chicago:20260407T063000
DTEND;TZID=America/Chicago:20260407T080000
DTSTAMP:20260421T050513
CREATED:20260102T210013Z
LAST-MODIFIED:20260102T210013Z
UID:9456-1775543400-1775548800@mountofolives.net
SUMMARY:Men's Bible Study
DESCRIPTION:
URL:http://mountofolives.net/event/mens-bible-study-16/2026-04-07/
END:VEVENT
BEGIN:VEVENT
DTSTART;TZID=America/Chicago:20260408T090000
DTEND;TZID=America/Chicago:20260408T103000
DTSTAMP:20260421T050513
CREATED:20250909T155532Z
LAST-MODIFIED:20250909T155532Z
UID:9415-1775638800-1775644200@mountofolives.net
SUMMARY:Women's Bible Study
DESCRIPTION:
URL:http://mountofolives.net/event/womens-bible-study-2/2026-04-08/
END:VEVENT
BEGIN:VEVENT
DTSTART;TZID=America/Chicago:20260408T180000
DTEND;TZID=America/Chicago:20260408T193000
DTSTAMP:20260421T050513
CREATED:20250909T154841Z
LAST-MODIFIED:20260323T143909Z
UID:9369-1775671200-1775676600@mountofolives.net
SUMMARY:Youth Group
DESCRIPTION:
URL:http://mountofolives.net/event/youth-group-2/2026-04-08/
END:VEVENT
BEGIN:VEVENT
DTSTART;TZID=America/Chicago:20260408T180000
DTEND;TZID=America/Chicago:20260408T193000
DTSTAMP:20260421T050513
CREATED:20250909T155020Z
LAST-MODIFIED:20260323T144105Z
UID:9352-1775671200-1775676600@mountofolives.net
SUMMARY:Prayer Gathering
DESCRIPTION:
URL:http://mountofolives.net/event/prayer-gathering-10/2026-04-08/
END:VEVENT
BEGIN:VEVENT
DTSTART;TZID=America/Chicago:20260408T180000
DTEND;TZID=America/Chicago:20260408T193000
DTSTAMP:20260421T050513
CREATED:20250916T165629Z
LAST-MODIFIED:20260323T144015Z
UID:9348-1775671200-1775676600@mountofolives.net
SUMMARY:Kingdom Kids
DESCRIPTION:
URL:http://mountofolives.net/event/kingdom-kids-2/2026-04-08/
END:VEVENT
BEGIN:VEVENT
DTSTART;TZID=America/Chicago:20260409T090000
DTEND;TZID=America/Chicago:20260409T103000
DTSTAMP:20260421T050513
CREATED:20250909T160212Z
LAST-MODIFIED:20250909T160212Z
UID:9420-1775725200-1775730600@mountofolives.net
SUMMARY:Women's Prayer Group
DESCRIPTION:
URL:http://mountofolives.net/event/womens-prayer-group-2/2026-04-09/
END:VEVENT
BEGIN:VEVENT
DTSTART;TZID=America/Chicago:20260409T183000
DTEND;TZID=America/Chicago:20260409T210000
DTSTAMP:20260421T050513
CREATED:20260404T011543Z
LAST-MODIFIED:20260404T011543Z
UID:9532-1775759400-1775768400@mountofolives.net
SUMMARY:Young Adult Bible Study
DESCRIPTION:
URL:http://mountofolives.net/event/young-adult-bible-study-3/
END:VEVENT
BEGIN:VEVENT
DTSTART;TZID=America/Chicago:20260410T173000
DTEND;TZID=America/Chicago:20260410T190000
DTSTAMP:20260421T050513
CREATED:20260404T011456Z
LAST-MODIFIED:20260404T011456Z
UID:9530-1775842200-1775847600@mountofolives.net
SUMMARY:Men's Game Night
DESCRIPTION:
URL:http://mountofolives.net/event/mens-game-night-24/
END:VEVENT
BEGIN:VEVENT
DTSTART;TZID=America/Chicago:20260414T063000
DTEND;TZID=America/Chicago:20260414T080000
DTSTAMP:20260421T050513
CREATED:20260102T210013Z
LAST-MODIFIED:20260102T210013Z
UID:9457-1776148200-1776153600@mountofolives.net
SUMMARY:Men's Bible Study
DESCRIPTION:
URL:http://mountofolives.net/event/mens-bible-study-16/2026-04-14/
END:VEVENT
BEGIN:VEVENT
DTSTART;TZID=America/Chicago:20260415T090000
DTEND;TZID=America/Chicago:20260415T103000
DTSTAMP:20260421T050513
CREATED:20250909T155532Z
LAST-MODIFIED:20250909T155532Z
UID:9416-1776243600-1776249000@mountofolives.net
SUMMARY:Women's Bible Study
DESCRIPTION:
URL:http://mountofolives.net/event/womens-bible-study-2/2026-04-15/
END:VEVENT
BEGIN:VEVENT
DTSTART;TZID=America/Chicago:20260415T180000
DTEND;TZID=America/Chicago:20260415T193000
DTSTAMP:20260421T050513
CREATED:20250909T154841Z
LAST-MODIFIED:20260323T143909Z
UID:9370-1776276000-1776281400@mountofolives.net
SUMMARY:Youth Group
DESCRIPTION:
URL:http://mountofolives.net/event/youth-group-2/2026-04-15/
END:VEVENT
BEGIN:VEVENT
DTSTART;TZID=America/Chicago:20260415T180000
DTEND;TZID=America/Chicago:20260415T193000
DTSTAMP:20260421T050513
CREATED:20250909T155020Z
LAST-MODIFIED:20260323T144105Z
UID:9353-1776276000-1776281400@mountofolives.net
SUMMARY:Prayer Gathering
DESCRIPTION:
URL:http://mountofolives.net/event/prayer-gathering-10/2026-04-15/
END:VEVENT
BEGIN:VEVENT
DTSTART;TZID=America/Chicago:20260415T180000
DTEND;TZID=America/Chicago:20260415T193000
DTSTAMP:20260421T050513
CREATED:20250916T165629Z
LAST-MODIFIED:20260323T144015Z
UID:9349-1776276000-1776281400@mountofolives.net
SUMMARY:Kingdom Kids
DESCRIPTION:
URL:http://mountofolives.net/event/kingdom-kids-2/2026-04-15/
END:VEVENT
BEGIN:VEVENT
DTSTART;TZID=America/Chicago:20260416T090000
DTEND;TZID=America/Chicago:20260416T103000
DTSTAMP:20260421T050513
CREATED:20250909T160212Z
LAST-MODIFIED:20250909T160212Z
UID:9421-1776330000-1776335400@mountofolives.net
SUMMARY:Women's Prayer Group
DESCRIPTION:
URL:http://mountofolives.net/event/womens-prayer-group-2/2026-04-16/
END:VEVENT
BEGIN:VEVENT
DTSTART;TZID=America/Chicago:20260416T113000
DTEND;TZID=America/Chicago:20260416T130000
DTSTAMP:20260421T050513
CREATED:20260331T175901Z
LAST-MODIFIED:20260331T175901Z
UID:9528-1776339000-1776344400@mountofolives.net
SUMMARY:Energizers
DESCRIPTION:
URL:http://mountofolives.net/event/energizers-13/
END:VEVENT
BEGIN:VEVENT
DTSTART;TZID=America/Chicago:20260421T063000
DTEND;TZID=America/Chicago:20260421T080000
DTSTAMP:20260421T050513
CREATED:20260102T210013Z
LAST-MODIFIED:20260416T171040Z
UID:9458-1776753000-1776758400@mountofolives.net
SUMMARY:Men's Bible Study
DESCRIPTION:
URL:http://mountofolives.net/event/mens-bible-study-16/2026-04-21/
END:VEVENT
BEGIN:VEVENT
DTSTART;TZID=America/Chicago:20260422T090000
DTEND;TZID=America/Chicago:20260422T103000
DTSTAMP:20260421T050513
CREATED:20250909T155532Z
LAST-MODIFIED:20260416T170934Z
UID:9417-1776848400-1776853800@mountofolives.net
SUMMARY:Women's Bible Study
DESCRIPTION:
URL:http://mountofolives.net/event/womens-bible-study-2/2026-04-22/
END:VEVENT
BEGIN:VEVENT
DTSTART;TZID=America/Chicago:20260422T180000
DTEND;TZID=America/Chicago:20260422T193000
DTSTAMP:20260421T050513
CREATED:20250909T154841Z
LAST-MODIFIED:20260416T170703Z
UID:9371-1776880800-1776886200@mountofolives.net
SUMMARY:Youth Group
DESCRIPTION:
URL:http://mountofolives.net/event/youth-group-2/2026-04-22/
END:VEVENT
BEGIN:VEVENT
DTSTART;TZID=America/Chicago:20260422T180000
DTEND;TZID=America/Chicago:20260422T193000
DTSTAMP:20260421T050513
CREATED:20250909T155020Z
LAST-MODIFIED:20260416T170549Z
UID:9354-1776880800-1776886200@mountofolives.net
SUMMARY:Prayer Gathering
DESCRIPTION:
URL:http://mountofolives.net/event/prayer-gathering-10/2026-04-22/
END:VEVENT
BEGIN:VEVENT
DTSTART;TZID=America/Chicago:20260422T180000
DTEND;TZID=America/Chicago:20260422T193000
DTSTAMP:20260421T050513
CREATED:20250916T165629Z
LAST-MODIFIED:20260416T170624Z
UID:9350-1776880800-1776886200@mountofolives.net
SUMMARY:Kingdom Kids
DESCRIPTION:
URL:http://mountofolives.net/event/kingdom-kids-2/2026-04-22/
END:VEVENT
BEGIN:VEVENT
DTSTART;TZID=America/Chicago:20260423T090000
DTEND;TZID=America/Chicago:20260423T103000
DTSTAMP:20260421T050513
CREATED:20250909T160212Z
LAST-MODIFIED:20260416T170834Z
UID:9422-1776934800-1776940200@mountofolives.net
SUMMARY:Women's Prayer Group
DESCRIPTION:
URL:http://mountofolives.net/event/womens-prayer-group-2/2026-04-23/
END:VEVENT
BEGIN:VEVENT
DTSTART;TZID=America/Chicago:20260425T080000
DTEND;TZID=America/Chicago:20260425T093000
DTSTAMP:20260421T050513
CREATED:20250923T144204Z
LAST-MODIFIED:20250923T144204Z
UID:9439-1777104000-1777109400@mountofolives.net
SUMMARY:Men's Breakfast
DESCRIPTION:
URL:http://mountofolives.net/event/mens-breakfast-12/2026-04-25/
END:VEVENT
BEGIN:VEVENT
DTSTART;TZID=America/Chicago:20260428T063000
DTEND;TZID=America/Chicago:20260428T080000
DTSTAMP:20260421T050513
CREATED:20260102T210013Z
LAST-MODIFIED:20260102T210013Z
UID:9556-1777357800-1777363200@mountofolives.net
SUMMARY:Men's Bible Study
DESCRIPTION:
URL:http://mountofolives.net/event/mens-bible-study-16/2026-04-28/
END:VEVENT
BEGIN:VEVENT
DTSTART;TZID=America/Chicago:20260429T090000
DTEND;TZID=America/Chicago:20260429T103000
DTSTAMP:20260421T050513
CREATED:20250909T155532Z
LAST-MODIFIED:20260416T170934Z
UID:9418-1777453200-1777458600@mountofolives.net
SUMMARY:Women's Bible Study
DESCRIPTION:
URL:http://mountofolives.net/event/womens-bible-study-2/2026-04-29/
END:VEVENT
BEGIN:VEVENT
DTSTART;TZID=America/Chicago:20260429T180000
DTEND;TZID=America/Chicago:20260429T193000
DTSTAMP:20260421T050513
CREATED:20250909T154841Z
LAST-MODIFIED:20260416T170703Z
UID:9372-1777485600-1777491000@mountofolives.net
SUMMARY:Youth Group
DESCRIPTION:
URL:http://mountofolives.net/event/youth-group-2/2026-04-29/
END:VEVENT
BEGIN:VEVENT
DTSTART;TZID=America/Chicago:20260429T180000
DTEND;TZID=America/Chicago:20260429T193000
DTSTAMP:20260421T050513
CREATED:20250909T155020Z
LAST-MODIFIED:20260416T170549Z
UID:9355-1777485600-1777491000@mountofolives.net
SUMMARY:Prayer Gathering
DESCRIPTION:
URL:http://mountofolives.net/event/prayer-gathering-10/2026-04-29/
END:VEVENT
BEGIN:VEVENT
DTSTART;TZID=America/Chicago:20260429T180000
DTEND;TZID=America/Chicago:20260429T193000
DTSTAMP:20260421T050513
CREATED:20250916T165629Z
LAST-MODIFIED:20260416T170625Z
UID:9351-1777485600-1777491000@mountofolives.net
SUMMARY:Kingdom Kids
DESCRIPTION:
URL:http://mountofolives.net/event/kingdom-kids-2/2026-04-29/
END:VEVENT
BEGIN:VEVENT
DTSTART;TZID=America/Chicago:20260430T090000
DTEND;TZID=America/Chicago:20260430T103000
DTSTAMP:20260421T050513
CREATED:20250909T160212Z
LAST-MODIFIED:20260416T170834Z
UID:9423-1777539600-1777545000@mountofolives.net
SUMMARY:Women's Prayer Group
DESCRIPTION:
URL:http://mountofolives.net/event/womens-prayer-group-2/2026-04-30/
END:VEVENT
END:VCALENDAR